BEGIN:VCALENDAR
PRODID:-//eluceo/ical//2.0/EN
VERSION:2.0
CALSCALE:GREGORIAN
BEGIN:VEVENT
UID:bcbde8b3081b27f8ad23f4994817e2e4
DTSTAMP:20260423T142246Z
SUMMARY:Besichtigung PILATUS Flugzeugwerke
DESCRIPTION:PC-7\, PC-12\, PC-21: Diese Modelle verbinden die Schweizer Arm
 ee mit dem Schweizer Flugzeughersteller PILATUS. Seit langem trainiert die
  Schweizer Luftwaffe mit den in der Schweiz produzierten Flugzeugen. Wir e
 rhalten als OG Aarau die exklusive Möglichkeit\, den Beginn der Kindertr
 äume vom Fliegen mitzuerleben.\n\n\nhttps://www.ogaarau.ch/event/besichti
 gung-pilatus-flugzeugwerke
DTSTART:20240314T093000
DTEND:20240314T123000
LOCATION:PILATUS Flugzeugwerke Stans (Treffpunkt: Haltestelle Feerstrasse i
 n Aarau)
ORGANIZER;CN=Offiziersgesellschaft Aarau:mailto:info@ogaarau.ch
END:VEVENT
END:VCALENDAR
