BEGIN:VCALENDAR
PRODID:-//eluceo/ical//2.0/EN
VERSION:2.0
CALSCALE:GREGORIAN
BEGIN:VEVENT
UID:f15f103f29dadd857cb883c2832d94c0
DTSTAMP:20260423T142742Z
SUMMARY:Besuch ALC Hinwil mit exklusiver Führung Schmalganglager
DESCRIPTION:Die fünf Armeelogistikcenter (ALC) der Schweizer Armee sind da
 s Rückgrat der logistischen Versorgung der Truppe und essenziell für die
  Bereitstellung und den Betrieb der Einsatz-\, Ausbildungs- und Logistikin
 frastruktur. Wir erhalten einen einmaligen Einblick in den Ablauf der Logi
 stik mit einem exklusiven Besuch des Schmalganglagers.\n\n\nhttps://www.og
 aarau.ch/event/besuch-alc-hinwil-mit-exklusiver-fuehrung-schmalganglager
DTSTART:20240524T073000
DTEND:20240524T103000
LOCATION:ALC Hinwil (Treffpunkt: Haltestelle Feerstrasse in Aarau)
ORGANIZER;CN=Offiziersgesellschaft Aarau:mailto:info@ogaarau.ch
END:VEVENT
END:VCALENDAR
