BEGIN:VCALENDAR
PRODID:-//eluceo/ical//2.0/EN
VERSION:2.0
CALSCALE:GREGORIAN
BEGIN:VEVENT
UID:381fb1cc1166ee5a4b3d5945d71f2e02
DTSTAMP:20260423T143109Z
SUMMARY:Besichtigung Festung Magletsch
DESCRIPTION:Die Festung Magletsch ist eine der grössten Artilleriewerke de
 s Reduits. Wir haben die Möglichkeit\, eine persönliche Ganztagesführun
 g zu erhalten.\n\n&nbsp\;\n\n\nhttps://www.ogaarau.ch/event/besichtigung-f
 estung-magletsch
DTSTART:20240615T074500
DTEND:20240615T104500
LOCATION:Kaserne Magletsch\, Wartau (Treffpunkt: Shuttle Treffpunkt Feerstr
 asse Aarau)
ORGANIZER;CN=Offiziersgesellschaft Aarau:mailto:info@ogaarau.ch
END:VEVENT
END:VCALENDAR
