BEGIN:VCALENDAR
PRODID:-//eluceo/ical//2.0/EN
VERSION:2.0
CALSCALE:GREGORIAN
BEGIN:VEVENT
UID:0967ce8591a44df7a3b6f66ecde8b35c
DTSTAMP:20260423T144438Z
SUMMARY:Bräteln bei der Friedenslinde
DESCRIPTION:Wir werden bei schönem Wetter ab 1100 Uhr den OG Aarau Grillpl
 atz in Betrieb nehmen und die Woche bei einem guten Bier und einer feinen 
 Wurst oder einem kräftigen Steak ausklingen lassen. Der Vorstand freut si
 ch auf einen geselligen Nachmittag!Für Getränke ist gesorgt\; für das G
 rillgut ist jeder selber verantwortlich.&nbsp\;\n\nhttps://www.ogaarau.ch/
 event/braeteln-bei-der-friedenslinde
DTSTART:20240810T110000
DTEND:20240810T140000
LOCATION:Friedenslinde Aarau
ORGANIZER;CN=Offiziersgesellschaft Aarau:mailto:info@ogaarau.ch
END:VEVENT
END:VCALENDAR
