BEGIN:VCALENDAR
PRODID:-//eluceo/ical//2.0/EN
VERSION:2.0
CALSCALE:GREGORIAN
BEGIN:VEVENT
UID:4df8107da6e797d9d12006f8210c641d
DTSTAMP:20260423T142741Z
SUMMARY:Marsch um den Sempachersee
DESCRIPTION:Die OG Aarau nimmt am vom Schweizerischen Verband Rotkreuzdiens
 t (SV-RKD) organisierten Marsch um den Sempachersee teil. Auf der 20km lan
 gen Strecke soll die Kameradschaft gepflegt und die Fitness trainiert werd
 en. Auch Familienangehörige sind herzlich willkommen!&nbsp\;\n\nhttps://w
 ww.ogaarau.ch/event/marsch-um-den-sempachersee
DTSTART:20240921T090000
DTEND:20240921T120000
LOCATION:Oberkirch (Treffpunkt: Feerstrasse Aarau)
ORGANIZER;CN=Offiziersgesellschaft Aarau:mailto:info@ogaarau.ch
END:VEVENT
END:VCALENDAR
