BEGIN:VCALENDAR
PRODID:-//eluceo/ical//2.0/EN
VERSION:2.0
CALSCALE:GREGORIAN
BEGIN:VEVENT
UID:8cc2de5d84bd12922294c926f2b7ea12
DTSTAMP:20260423T142706Z
SUMMARY:Chässchnitte-Beiz am MAG
DESCRIPTION:Besuchen Sie vom Donnerstag\, 26. September bis Sonntag\, 29. S
 eptember 2024 unsere Chässchnitte-Beiz am MAG! Wir servieren feine Milit
 är-Chässchnitten\, Speck-Brättli\, frisches Bier\, Weine und Kaffee-Var
 iationen sowie Cremeschnitten.&nbsp\;\n&nbsp\;\n\nhttps://www.ogaarau.ch/e
 vent/chaesschnitte-beiz-am-mag
DTSTART:20240927T190000
DTEND:20240927T220000
LOCATION:Martkhalle Aarau
ORGANIZER;CN=Offiziersgesellschaft Aarau:mailto:info@ogaarau.ch
END:VEVENT
END:VCALENDAR
