BEGIN:VCALENDAR
PRODID:-//eluceo/ical//2.0/EN
VERSION:2.0
CALSCALE:GREGORIAN
BEGIN:VEVENT
UID:5d2423ff87a58ded112f74e6fc7a34b9
DTSTAMP:20260423T143959Z
SUMMARY:Suuser Bummel
DESCRIPTION:Wir geniessen unsere traditionelle Metzgete und den frischen Su
 user dieses Jahr auf dem Rütihof.\n&nbsp\;\n\nhttps://www.ogaarau.ch/even
 t/suuser-bummel-1
DTSTART:20241025T180000
DTEND:20241025T210000
LOCATION:Rütihof Gränichen (Treffpunkt: WSB-Bahnhof Gränichen)
ORGANIZER;CN=Offiziersgesellschaft Aarau:mailto:info@ogaarau.ch
END:VEVENT
END:VCALENDAR
