BEGIN:VCALENDAR
PRODID:-//eluceo/ical//2.0/EN
VERSION:2.0
CALSCALE:GREGORIAN
BEGIN:VEVENT
UID:0bbb9d4d768880f115a5900716a79acb
DTSTAMP:20260423T142446Z
SUMMARY:Soirée - Ball der Arizona
DESCRIPTION:Werte Squaws und Stamm der Arizona\, liebe Gäste\nEs ist uns e
 ine grosse Freude\, Sie zur Soirée 2024 einzuladen. Alle Details finden S
 ie in der beigefügten Einladung.Bitte melden Sie sich per Anmeldformular 
 an.Wir freuen uns sehr\, Sie an der Soirée 2024 am 2. November persönlic
 h begrüssen zu dürfen.\nHerzlichBarbara &amp\; Patrick Deucher\n\nhttps:
 //www.ogaarau.ch/event/soiree-ball-der-arizona
DTSTART:20241102T180000
DTEND:20241102T210000
LOCATION:Aarau\, kultur und kongresshaus kuk
ORGANIZER;CN=Offiziersgesellschaft Aarau:mailto:info@ogaarau.ch
END:VEVENT
END:VCALENDAR
