BEGIN:VCALENDAR
PRODID:-//eluceo/ical//2.0/EN
VERSION:2.0
CALSCALE:GREGORIAN
BEGIN:VEVENT
UID:465d5b0c2964bc6ba90ecdda90f74b4f
DTSTAMP:20260423T141758Z
SUMMARY:Die Krisen sind zurück – ist die Schweiz bereit\, Herr CdA?
DESCRIPTION:Die Offiziersgesellschaft Aarau lädt am Mittwoch\, 13. Novembe
 r 2024 zum öffentlichen\, hochkarätigen sicherheitspolitischen Grossanla
 ss!\n\nhttps://www.ogaarau.ch/event/die-krisen-sind-zurueck-ist-die-schwei
 z-bereit-herr-cda
DTSTART:20241113T180000
DTEND:20241113T210000
LOCATION:«Power Inn»\, Eniwa AG\, 5033 Buchs
ORGANIZER;CN=Offiziersgesellschaft Aarau:mailto:info@ogaarau.ch
END:VEVENT
END:VCALENDAR
