BEGIN:VCALENDAR
PRODID:-//eluceo/ical//2.0/EN
VERSION:2.0
CALSCALE:GREGORIAN
BEGIN:VEVENT
UID:79f4ea1fbaebc8cdeba1d6b4aa6f71ab
DTSTAMP:20260423T131449Z
SUMMARY:Chlaushock
DESCRIPTION:Wir erkunden unter der Leitung eines Nachtwächters das mittela
 lterliche Aarau. Anschliessend geniessen wir ein feines Käse-Fondue in de
 r Laterne in Aarau.\n\nhttps://www.ogaarau.ch/event/chlaushock-1
DTSTART:20241213T180000
DTEND:20241213T210000
LOCATION:Altstadt Aarau (Treffpunkt: Aarau Info\, Metzgergasse 2\, 5000 Aar
 au)
ORGANIZER;CN=Offiziersgesellschaft Aarau:mailto:info@ogaarau.ch
END:VEVENT
END:VCALENDAR
