BEGIN:VCALENDAR
PRODID:-//eluceo/ical//2.0/EN
VERSION:2.0
CALSCALE:GREGORIAN
BEGIN:VEVENT
UID:cf2f43168becd86d5f627f970b991fb9
DTSTAMP:20260423T131609Z
SUMMARY:Neumitgliederanlass
DESCRIPTION:Traditionsgemäss startet der Abend mit einem Besuch unserer Re
 itsektion "ARIZONA"\, welche sich immer mit viel Herzblut zu präsentieren
  weiss. Im Anschluss finden wir uns im "Bürgerstübli" im Obertorturm ein
 \, um bei einem gemütlichen Nachtessen die Kameradschaft zu pflegen und d
 en Verein vorzustellen. Der Vorstand freut sich auf einen geselligen Abend
 ! Auch Altmitglieder sind herzlich willkommen!\n\nhttps://www.ogaarau.ch/e
 vent/neumitgliederanlass-1
DTSTART:20250110T183000
DTEND:20250110T213000
LOCATION:Aarau Rohr (Treffpunkt: Migrolino am Bahnhof Aarau)
ORGANIZER;CN=Offiziersgesellschaft Aarau:mailto:info@ogaarau.ch
END:VEVENT
END:VCALENDAR
