BEGIN:VCALENDAR
PRODID:-//eluceo/ical//2.0/EN
VERSION:2.0
CALSCALE:GREGORIAN
BEGIN:VEVENT
UID:a8563fb0e524e0cec546824d40bb2c01
DTSTAMP:20260423T131012Z
SUMMARY:158. Generalversammlung
DESCRIPTION:Gerne laden wir euch zu unserer 158. Generalversammlung in der 
 Aula der Berufsschule Aarau ein. Die GV beginnt um 1830 Uhr. Zudem dürfen
  wir uns auf Dr. Amos Dossi\, Center for Security Studies an der ETH Züri
 ch\, freuen\, der ein spannendes Referat mit dem Titel "Die Schweizer Rüs
 tungsindustrie: Entwicklungslinien und Potenziale" halten wird. Am Ende fo
 lgt ein gemeinsames Abendessen. Der Vorstand freut sich auf möglichst vie
 le Mitglieder!&nbsp\;\n\nhttps://www.ogaarau.ch/event/158-generalversammlu
 ng
DTSTART:20250212T180000
DTEND:20250212T210000
LOCATION:Aula Berufsschule Aarau
ORGANIZER;CN=Offiziersgesellschaft Aarau:mailto:info@ogaarau.ch
END:VEVENT
END:VCALENDAR
