BEGIN:VCALENDAR
PRODID:-//eluceo/ical//2.0/EN
VERSION:2.0
CALSCALE:GREGORIAN
BEGIN:VEVENT
UID:686fe7d1098ba98f512a008e69b7c001
DTSTAMP:20260423T130848Z
SUMMARY:Samichlaus-Pfiff
DESCRIPTION:Zusammen mit unserer Reitsektion ARIZONA feiern wir den Samichl
 aus-Tag mit gemeinsamem Cervelat-Bräteln und Glühwein-Trinken. Der Samic
 hlaus wird der Kinderschar einen Besuch abstatten und ein kleines Präsent
  abgeben. Wie im letzten Jahr wird der Samichlaus mit der Kutsche vorfahre
 n\, im Anschluss ist es möglich\, mit dem Schmutzli eine kleine Runde auf
  der Kutsche zu fahren. Ebenfalls ist es möglich\, auf den Pferden der Ar
 izona eine kleine Runde zu reiten.\n\nhttps://www.ogaarau.ch/event/samichl
 aus-pfiff
DTSTART:20241207T100000
DTEND:20241207T130000
LOCATION:Spielplatz Pflanzgarten/Häxehüsli\, Gönhardquartier Aarau
ORGANIZER;CN=Offiziersgesellschaft Aarau:mailto:info@ogaarau.ch
END:VEVENT
END:VCALENDAR
