BEGIN:VCALENDAR
PRODID:-//eluceo/ical//2.0/EN
VERSION:2.0
CALSCALE:GREGORIAN
BEGIN:VEVENT
UID:f5246784dce1a6765e7581bc37ba4db4
DTSTAMP:20260423T125916Z
SUMMARY:KD-Box Schiessen mit Pistole
DESCRIPTION:Wir werden unsere Treffsicherheit mit der Pistole auf verschied
 ene Distanzen auffrischen. Im Anschluss gibt es ein gemeinsames Mittagesse
 n im Waldhaus Gehren.&nbsp\;\n\nhttps://www.ogaarau.ch/event/kd-box-schies
 sen-mit-pistole
DTSTART:20250405T080000
DTEND:20250405T110000
LOCATION:Schiessplatz Gehren Erlinsbach
ORGANIZER;CN=Offiziersgesellschaft Aarau:mailto:info@ogaarau.ch
END:VEVENT
END:VCALENDAR
