BEGIN:VCALENDAR
PRODID:-//eluceo/ical//2.0/EN
VERSION:2.0
CALSCALE:GREGORIAN
BEGIN:VEVENT
UID:49caaf3337c5b62a2c318ba0e369b29a
DTSTAMP:20260423T131654Z
SUMMARY:Bräteln bei der Friedenslinde
DESCRIPTION:Wir werden bei schönem Wetter ab 1100 Uhr den OG Aarau Grillpl
 atz bei der Friedenslinde oberhalb Aarau in Betrieb nehmen und zusammen ei
 nen gemütlichen Sonntagnachmittag verbringen.&nbsp\;\n\nhttps://www.ogaar
 au.ch/event/braeteln-bei-der-friedenslinde-0
DTSTART:20250810T110000
DTEND:20250810T140000
LOCATION:Friedenslinde Aarau
ORGANIZER;CN=Offiziersgesellschaft Aarau:mailto:info@ogaarau.ch
END:VEVENT
END:VCALENDAR
