BEGIN:VCALENDAR
PRODID:-//eluceo/ical//2.0/EN
VERSION:2.0
CALSCALE:GREGORIAN
BEGIN:VEVENT
UID:6489f0896940546c7056d999d6770512
DTSTAMP:20260423T131517Z
SUMMARY:OGA-Marsch - Einmal um die Region Aarau
DESCRIPTION:Wir rufen den ersten offiziellen Marsch der OG Aarau ins Leben!
  Mit ihm wollen wir unsere Ausdauer stärken\, den Durchhaltewillen förde
 rn und die Kameradschaft pflegen. Auf einer schönen 20km-langen Route ent
 lang der Aare über Schönenwerd\, Eppenberg\, Distelberg und dann der Suh
 re nach wieder zurück umrunden wir unsere Heimatstadt einmal zu Fuss.&nbs
 p\;\n\nhttps://www.ogaarau.ch/event/oga-marsch-einmal-um-die-region-aarau
DTSTART:20250510T090000
DTEND:20250510T120000
LOCATION:Aarau (Treffpunkt: Flösserstrasse 7 in Aarau)
ORGANIZER;CN=Offiziersgesellschaft Aarau:mailto:info@ogaarau.ch
END:VEVENT
END:VCALENDAR
