BEGIN:VCALENDAR
PRODID:-//eluceo/ical//2.0/EN
VERSION:2.0
CALSCALE:GREGORIAN
BEGIN:VEVENT
UID:eb8dfc0a250cdd169110420ed8c454f2
DTSTAMP:20260423T102618Z
SUMMARY:Chässchnitte-Beiz am MAG
DESCRIPTION:Besuchen Sie vom Donnerstag\, 25. September bis Sonntag\, 28. S
 eptember 2025 unsere Chässchnitte-Beiz am MAG! Wir servieren feine Milit
 är-Chässchnitten\, Speck-Brättli\, frisches Bier\, Weine und Kaffee-Var
 iationen sowie Cremeschnitten.&nbsp\;\n\nhttps://www.ogaarau.ch/event/chae
 sschnitte-beiz-am-mag-0
DTSTART:20250927T190000
DTEND:20250927T220000
LOCATION:Markthalle Aarau
ORGANIZER;CN=Offiziersgesellschaft Aarau:mailto:info@ogaarau.ch
END:VEVENT
END:VCALENDAR
