BEGIN:VCALENDAR
PRODID:-//eluceo/ical//2.0/EN
VERSION:2.0
CALSCALE:GREGORIAN
BEGIN:VEVENT
UID:f1f2431386067a2adabdd7f33402055e
DTSTAMP:20260423T102619Z
SUMMARY:Suuser-Bummel mit Metzgete
DESCRIPTION:Wir geniessen unsere traditionelle Metzgete und den frischen Su
 user dieses Jahr im Restaurant Weingarten in Thalheim. Dazu unternehmen wi
 r einen etwas längeren Bummel von der Staffelegg zur Metzgete.\n&nbsp\;\n
 \nhttps://www.ogaarau.ch/event/suuser-bummel-mit-metzgete
DTSTART:20251024T173000
DTEND:20251024T203000
LOCATION:Restaurant Weingarten in Thalheim (Treffpunkt: Migrolino am Bahnho
 f Aarau)
ORGANIZER;CN=Offiziersgesellschaft Aarau:mailto:info@ogaarau.ch
END:VEVENT
END:VCALENDAR
