BEGIN:VCALENDAR
PRODID:-//eluceo/ical//2.0/EN
VERSION:2.0
CALSCALE:GREGORIAN
BEGIN:VEVENT
UID:855a999b58e0b25ae36a94960f992701
DTSTAMP:20260423T103431Z
SUMMARY:Soirée - Ball der Arizona
DESCRIPTION:Es ist uns eine grosse Freude\, Sie zur Soirée 2025 einzuladen
 !\n&nbsp\;\n\nhttps://www.ogaarau.ch/event/soiree-ball-der-arizona-0
DTSTART:20251115T180000
DTEND:20251115T210000
LOCATION:KuK\, Aarau
ORGANIZER;CN=Offiziersgesellschaft Aarau:mailto:info@ogaarau.ch
END:VEVENT
END:VCALENDAR
