BEGIN:VCALENDAR
PRODID:-//eluceo/ical//2.0/EN
VERSION:2.0
CALSCALE:GREGORIAN
BEGIN:VEVENT
UID:425445d1373f8efd21b94f9e60fd0aaa
DTSTAMP:20260423T103416Z
SUMMARY:Wann rüstet die Schweiz endlich auf?
DESCRIPTION:Die Offiziersgesellschaft Aarau lädt am Mittwoch\, 19. Novembe
 r 2025 zum öffentlichen\, hochkarätigen sicherheitspolitischen Grossanla
 ss!\n\nhttps://www.ogaarau.ch/event/wann-ruestet-die-schweiz-endlich-auf
DTSTART:20251119T180000
DTEND:20251119T210000
LOCATION:«Power Inn»\, Eniwa AG\, 5033 Buchs
ORGANIZER;CN=Offiziersgesellschaft Aarau:mailto:info@ogaarau.ch
END:VEVENT
END:VCALENDAR
