BEGIN:VCALENDAR
PRODID:-//eluceo/ical//2.0/EN
VERSION:2.0
CALSCALE:GREGORIAN
BEGIN:VEVENT
UID:bb061a05b28df23d6949088eb06169d7
DTSTAMP:20260423T103243Z
SUMMARY:Chlaushock - Essig-Degustation und gemütliches Beisammensein
DESCRIPTION:Sauer macht Lustig\, sagt man so schön. Das ist wahr und was E
 ssig sonst noch so alles mit uns anstellt\, das verrät uns das Landhotel 
 Hirschen in seinem Essigkeller in Erlinsbach. Wir erfahren mehr über die 
 Geschichte des Essigs\, wie es entsteht und wie man es in der Küche einse
 tzen kann. Im Anschluss gibt es ein feines Nachtessen.&nbsp\;\n\nhttps://w
 ww.ogaarau.ch/event/chlaushock-essig-degustation-und-gemuetliches-beisamme
 nsein
DTSTART:20251212T182000
DTEND:20251212T212000
LOCATION:Landhotel Hirschen\, Hauptstrasse 125\, 5015 Erlinsbach  (Treffpun
 kt: Grosser Parkplatz vor dem Hotel )
ORGANIZER;CN=Offiziersgesellschaft Aarau:mailto:info@ogaarau.ch
END:VEVENT
END:VCALENDAR
