BEGIN:VCALENDAR
PRODID:-//eluceo/ical//2.0/EN
VERSION:2.0
CALSCALE:GREGORIAN
BEGIN:VEVENT
UID:860b812728d6792cb1db608a23b6818b
DTSTAMP:20260423T102245Z
SUMMARY:Neumitgliederanlass
DESCRIPTION:Traditionsgemäss startet der Abend mit einem Besuch unserer Re
 itsektion "ARIZONA"\, die sich immer mit viel Herzblut zu präsentieren we
 iss. Erstmalig dürfen wir die "ARIZONA" in diesem Jahr am neuen Standort 
 in Thalheim besuchen. Im Anschluss finden wir uns im "Bürgerstübli" im O
 bertorturm in der Aarauer Altstadt ein\, um bei einem gemütlichen Nachtes
 sen die Kameradschaft zu pflegen und den Verein vorzustellen. Der Vorstand
  freut sich auf einen geselligen Abend!\n\nhttps://www.ogaarau.ch/event/ne
 umitgliederanlass-2
DTSTART:20260109T183000
DTEND:20260109T213000
LOCATION:Thalheim / Obertorturm Aarau (Treffpunkt: Migrolino Bahnhof Aarau 
 (Bahnhofplatz) )
ORGANIZER;CN=Offiziersgesellschaft Aarau:mailto:info@ogaarau.ch
END:VEVENT
END:VCALENDAR
