BEGIN:VCALENDAR
PRODID:-//eluceo/ical//2.0/EN
VERSION:2.0
CALSCALE:GREGORIAN
BEGIN:VEVENT
UID:d5676f4fc9fa8528a7fe95718a3a6e1a
DTSTAMP:20260423T102526Z
SUMMARY:159. Generalversammlung
DESCRIPTION:Wir laden euch herzlich zur 159. Generalversammlung der OG Aara
 u ein. Die Versammlung beginnt um 18:30 Uhr in der Aula der Berufsschule A
 arau.Besonders freuen wir uns\, Hptm Nils Stampfli\, Berufsoffizier an der
  Offiziersschule der Luftwaffe und ehemaliges Vorstandsmitglied der OGA\, 
 als Referenten begrüssen zu dürfen. Er wird einen spannenden Vortrag üb
 er seinen einjährigen Einsatz im Rahmen der Schweizer Beteiligung an der 
 UNO-Mission in Syrien halten.Im Anschluss an das Referat laden wir zu eine
 m gemütlichen Abendessen ein. Der Vorstand freut sich auf zahlreiches Ers
 cheinen und einen regen Austausch!\n\nhttps://www.ogaarau.ch/event/159-gen
 eralversammlung
DTSTART:20260219T183000
DTEND:20260219T213000
LOCATION:Aula Berufsschule Aarau
ORGANIZER;CN=Offiziersgesellschaft Aarau:mailto:info@ogaarau.ch
END:VEVENT
END:VCALENDAR
