BEGIN:VCALENDAR
PRODID:-//eluceo/ical//2.0/EN
VERSION:2.0
CALSCALE:GREGORIAN
BEGIN:VEVENT
UID:a9578d443b6aa7ef0584ec5275b1ca69
DTSTAMP:20260423T103136Z
SUMMARY:Samichlaus-Pfiff
DESCRIPTION:Zusammen mit unserer Reitsektion ARIZONA feiern wir den Samichl
 aus-Tag mit gemeinsamem Cervelat-Bräteln und Glühwein-Trinken. Der Samic
 hlaus wird der Kinderschar einen Besuch abstatten und ein kleines Präsent
  abgeben. Wie im letzten Jahr wird der Samichlaus mit der Kutsche vorfahre
 n\, im Anschluss ist es möglich\, mit dem Schmutzli eine kleine Runde auf
  der Kutsche zu fahren.&nbsp\;\n\nhttps://www.ogaarau.ch/event/samichlaus-
 pfiff-0
DTSTART:20251206T100000
DTEND:20251206T130000
LOCATION:Häxehüsli Göndhardwald Aarau 
ORGANIZER;CN=Offiziersgesellschaft Aarau:mailto:info@ogaarau.ch
END:VEVENT
END:VCALENDAR
