BEGIN:VCALENDAR
PRODID:-//eluceo/ical//2.0/EN
VERSION:2.0
CALSCALE:GREGORIAN
BEGIN:VEVENT
UID:90d69920a30e8c8214936b1fcbdc0250
DTSTAMP:20260423T104618Z
SUMMARY:Besichtigung Pumpspeicherkraftwerk Linth-Limmern
DESCRIPTION:Erlebe ein faszinierendes Meisterwerk der Schweizer Energievers
 orgung. Das unterirdisch im Felsen angelegte Pumpspeicherkraftwerk Linth-L
 immern steht exemplarisch für Versorgungssicherheit und technische Exzell
 enz. Zuerst geht es mit der Standseilbahn hinauf auf rund 1700 m.ü.M. Dan
 n 700 Meter weiter tief ins Berginnere\, durch die riesigen Maschinen- und
  Trafokavernen und durch die zugehörigen Verbindungsstollen.\n\nhttps://w
 ww.ogaarau.ch/event/besichtigung-pumpspeicherkraftwerk-linth-limmern
DTSTART:20260314T071500
DTEND:20260314T101500
LOCATION:Linthal\, Kanton Glarus (Treffpunkt: Carparkplatz Feerstrasse Aara
 u)
ORGANIZER;CN=Offiziersgesellschaft Aarau:mailto:info@ogaarau.ch
END:VEVENT
END:VCALENDAR
