BEGIN:VCALENDAR
PRODID:-//eluceo/ical//2.0/EN
VERSION:2.0
CALSCALE:GREGORIAN
BEGIN:VEVENT
UID:fc2de2f49ede685442c0eefb8d873e43
DTSTAMP:20260423T101644Z
SUMMARY:Schiessanlass Kaderübung 
DESCRIPTION:Leider kann der Schiessanlass Realdistanz aufgrund von Lärmred
 uktion auf dem Spl Gehren nicht wie geplant stattfinden. Wir haben jedoch 
 die Möglichkeit\, an der Kaderübung "OHANA II" der OG Solothurn und des 
 MV Grenchen auf dem Spl Spittelberg mitzumachen. Es wird um direkte Anmeld
 ung an den Veranstalter bis am 14. April 2026 gebeten.&nbsp\;\n\nhttps://w
 ww.ogaarau.ch/event/schiessanlass-kaderuebung
DTSTART:20260418T080000
DTEND:20260418T110000
LOCATION:Spl Spittelberg\, Schiessplatz C
ORGANIZER;CN=Offiziersgesellschaft Aarau:mailto:info@ogaarau.ch
END:VEVENT
END:VCALENDAR
