BEGIN:VCALENDAR
PRODID:-//eluceo/ical//2.0/EN
VERSION:2.0
CALSCALE:GREGORIAN
BEGIN:VEVENT
UID:2060ffc90f39a3fff8f686b14b3266d3
DTSTAMP:20260423T102847Z
SUMMARY:OGA-Marsch - Einmal um die Region Aarau
DESCRIPTION:Der OGA-Marsch findet in diesem Jahr zum zweiten Mal statt! Mit
  ihm wollen wir unsere Ausdauer stärken\, den Durchhaltewillen fördern u
 nd die Kameradschaft pflegen. Auf einer schönen 20km-langen Route entlang
  der Aare über Schönenwerd\, Eppenberg\, Distelberg und dann der Suhre n
 ach wieder zurück umrunden wir unsere Heimatstadt einmal zu Fuss.&nbsp\;\
 n\nhttps://www.ogaarau.ch/event/oga-marsch-einmal-um-die-region-aarau-0
DTSTART:20260509T090000
DTEND:20260509T120000
LOCATION:Aarau (Treffpunkt: Flösserstrasse 7 in Aarau)
ORGANIZER;CN=Offiziersgesellschaft Aarau:mailto:info@ogaarau.ch
END:VEVENT
END:VCALENDAR
