BEGIN:VCALENDAR
PRODID:-//eluceo/ical//2.0/EN
VERSION:2.0
CALSCALE:GREGORIAN
BEGIN:VEVENT
UID:ad5ba22e293c2326e123517f4b7d7bf0
DTSTAMP:20260423T101641Z
SUMMARY:Chässchnitte-Beiz
DESCRIPTION:Besuchen Sie vom Donnerstag\, 24. September bis Sonntag\, 27. S
 eptember 2026 unsere Chässchnitte-Beiz am MAG! Wir servieren wie jedes Ja
 hr feine Militär-Chässchnitten\, Speck-Brättli\, frisches Bier\, Weine 
 und Kaffee-Variationen sowie Cremeschnitten.&nbsp\;\n\nhttps://www.ogaarau
 .ch/event/chaesschnitte-beiz
DTSTART:20260926T190000
DTEND:20260926T220000
LOCATION:Markthalle Aarau
ORGANIZER;CN=Offiziersgesellschaft Aarau:mailto:info@ogaarau.ch
END:VEVENT
END:VCALENDAR
