BEGIN:VCALENDAR
PRODID:-//eluceo/ical//2.0/EN
VERSION:2.0
CALSCALE:GREGORIAN
BEGIN:VEVENT
UID:b5588005cb4bc867aeb389a8bd4dac52
DTSTAMP:20260423T170409Z
SUMMARY:Welche Armee braucht die Schweiz?
DESCRIPTION:Die Offiziersgesellschaft Aarau lädt am Mittwoch 16. November 
 2022 zum öffentlichen\, hochkarätigen sicherheitspolitischen Grossanlass
 !\n\n\nhttps://www.ogaarau.ch/event/welche-armee-braucht-die-schweiz
DTSTART:20221116T183000
DTEND:20221116T213000
LOCATION:Eniwa AG\, Industriestrasse 25\, 5033 Buchs AG
ORGANIZER;CN=Offiziersgesellschaft Aarau:mailto:info@ogaarau.ch
END:VEVENT
END:VCALENDAR
