BEGIN:VCALENDAR
PRODID:-//eluceo/ical//2.0/EN
VERSION:2.0
CALSCALE:GREGORIAN
BEGIN:VEVENT
UID:5216d7728f70b53bfb7ee062941e527c
DTSTAMP:20260423T170506Z
SUMMARY:156. Generalversammlung
DESCRIPTION:Die 156. Generalversammlung findet neu in der Aula der alten Ka
 nti in Aarau statt - einem neuen bzw. altbekannten Ort.\n\n\nhttps://www.o
 gaarau.ch/event/156-generalversammlung
DTSTART:20230215T180000
DTEND:20230215T210000
LOCATION:Aula der alten Kanti\, Aarau
ORGANIZER;CN=Offiziersgesellschaft Aarau:mailto:info@ogaarau.ch
END:VEVENT
END:VCALENDAR
