BEGIN:VCALENDAR
PRODID:-//eluceo/ical//2.0/EN
VERSION:2.0
CALSCALE:GREGORIAN
BEGIN:VEVENT
UID:6de17cd979bffb3499d2cdfb4515996a
DTSTAMP:20260423T170425Z
SUMMARY:Neumitgliederanlass
DESCRIPTION:An diesem Anlass heissen wir die neu beigetretenen Offiziere in
  unserer Offiziersgesellschaft willkommen.\n\n\nhttps://www.ogaarau.ch/eve
 nt/neumitgliederanlass-2023
DTSTART:20230113T183000
DTEND:20230113T213000
LOCATION:Obertorturm Aarau (Treffpunkt: Bahnhofplatz Aarau beim Migrolino)
ORGANIZER;CN=Offiziersgesellschaft Aarau:mailto:info@ogaarau.ch
END:VEVENT
END:VCALENDAR
