BEGIN:VCALENDAR
PRODID:-//eluceo/ical//2.0/EN
VERSION:2.0
CALSCALE:GREGORIAN
BEGIN:VEVENT
UID:00eaa3e62f16609c0e290c4d3a133a8e
DTSTAMP:20260423T171008Z
SUMMARY:Soirée der Arizona
DESCRIPTION:https://www.ogaarau.ch/event/soiree-der-arizona
DTSTART:20221112T180000
DTEND:20221112T210000
LOCATION:Kultur- und Kongresshaus Aarau
ORGANIZER;CN=Offiziersgesellschaft Aarau:mailto:info@ogaarau.ch
END:VEVENT
END:VCALENDAR
