BEGIN:VCALENDAR
PRODID:-//eluceo/ical//2.0/EN
VERSION:2.0
CALSCALE:GREGORIAN
BEGIN:VEVENT
UID:77ada9d16a71afb16f1a56442b1d18f7
DTSTAMP:20260423T165814Z
SUMMARY:Suuser-Bummel
DESCRIPTION:Wir wollen wir uns den diesjährigen Suuserbummel nicht entgehe
 n lassen. Dieser wird uns von der Salhöhe hinunter zum Barmelhof führen\
 , wo wir besten Suuser und eine vorzügliche Metzgete geniessen werden. Ge
 mäss Verein zur Förderung des Ansehens für Blut- und Leberwürste (www.
 vbl.org) gibt es auf dem Barmelhof die schweizweit beste Blutwurst!\n\n&nb
 sp\;\n\n\nhttps://www.ogaarau.ch/event/suuser-bummel
DTSTART:20221021T171500
DTEND:20221021T201500
LOCATION:Restaurant Barmelhof\, Salhöhe (Treffpunkt: Migrolino\, Bahnhof A
 arau)
ORGANIZER;CN=Offiziersgesellschaft Aarau:mailto:info@ogaarau.ch
END:VEVENT
END:VCALENDAR
