BEGIN:VCALENDAR
PRODID:-//eluceo/ical//2.0/EN
VERSION:2.0
CALSCALE:GREGORIAN
BEGIN:VEVENT
UID:1aaf38b363f0755eb78b0cc0efb1d4fc
DTSTAMP:20260423T165718Z
SUMMARY:Besuch Übung «PILUM»
DESCRIPTION:Mit der Verbandsübung «PILUM 22» überprüft die Armee ihre 
 Grundbereitschaft der Bodentruppen im Massstab 1:1. Dies ist ein Zwischens
 chritt auf dem Weg zur geplanten Erneuerung der Schweizer Armee.\n\n\nhttp
 s://www.ogaarau.ch/event/besuch-uebung-pilum
DTSTART:20221127T090000
DTEND:20221127T120000
LOCATION:Reitnau
ORGANIZER;CN=Offiziersgesellschaft Aarau:mailto:info@ogaarau.ch
END:VEVENT
END:VCALENDAR
