BEGIN:VCALENDAR
PRODID:-//eluceo/ical//2.0/EN
VERSION:2.0
CALSCALE:GREGORIAN
BEGIN:VEVENT
UID:90f798353e557bf5e560a415be57a731
DTSTAMP:20260423T170059Z
SUMMARY:Besuch CH Media
DESCRIPTION:CH Media ist eines der führenden Schweizer Medienunternehmen u
 nd beschäftigt in der Deutschschweiz rund 1800 Mitarbeitende.\n\n\nhttps:
 //www.ogaarau.ch/event/besuch-ch-media
DTSTART:20230322T165000
DTEND:20230322T195000
LOCATION:Eingang CH Media\, Telli\, Aarau
ORGANIZER;CN=Offiziersgesellschaft Aarau:mailto:info@ogaarau.ch
END:VEVENT
END:VCALENDAR
