BEGIN:VCALENDAR
PRODID:-//eluceo/ical//2.0/EN
VERSION:2.0
CALSCALE:GREGORIAN
BEGIN:VEVENT
UID:978ca2ae651f41a209bd6577fa03daac
DTSTAMP:20260423T171115Z
SUMMARY:Schiessanlass
DESCRIPTION:Um den Schiessanlass der OG Aarau spannend\, abwechslungs- und 
 lehrreich zu halten\, werden wir dieses Jahr das Shooting Inn in Oberentfe
 lden besuchen.\n\n\nhttps://www.ogaarau.ch/event/schiessanlass
DTSTART:20230415T083000
DTEND:20230415T113000
LOCATION:Shooting Inn\, Oberentfelden
ORGANIZER;CN=Offiziersgesellschaft Aarau:mailto:info@ogaarau.ch
END:VEVENT
END:VCALENDAR
