BEGIN:VCALENDAR
PRODID:-//eluceo/ical//2.0/EN
VERSION:2.0
CALSCALE:GREGORIAN
BEGIN:VEVENT
UID:4115dbb8d9af3d0f93628df626f35a5a
DTSTAMP:20260423T154723Z
SUMMARY:Besichtigung Air Operations Center LW & Skyguide
DESCRIPTION:Wir haben die Möglichkeit\, den gesamten Schweizer Luftraum au
 s verschiedenen Perspektiven zu sehen. Einerseits die militärische\, ande
 rerseits die zivile Sicht. Zudem kann sich bei der Skyguide jeder mal als 
 Flugverkehrsleiter versuchen.\n\n\nhttps://www.ogaarau.ch/event/besichtigu
 ng-air-operations-center-lw-skyguide
DTSTART:20230523T131500
DTEND:20230523T161500
LOCATION:Dübendorf
ORGANIZER;CN=Offiziersgesellschaft Aarau:mailto:info@ogaarau.ch
END:VEVENT
END:VCALENDAR
