BEGIN:VCALENDAR
PRODID:-//eluceo/ical//2.0/EN
VERSION:2.0
CALSCALE:GREGORIAN
BEGIN:VEVENT
UID:57c062fa0b006dd9c06e293d19b20898
DTSTAMP:20260423T154421Z
SUMMARY:Aarauer Altstadtlauf
DESCRIPTION:Auf die Plätze\, fertig\, los! Die OG Aarau nimmt zum zweiten 
 Mal am Aarauer Altstadtlauf teil und zwar in Form von Stafetten als "Team 
 of Five".&nbsp\;\n\n\nhttps://www.ogaarau.ch/event/aarauer-altstadtlauf-0
DTSTART:20230617T153000
DTEND:20230617T183000
LOCATION:Aarau (Treffpunkt: Valiant Bank Aarau)
ORGANIZER;CN=Offiziersgesellschaft Aarau:mailto:info@ogaarau.ch
END:VEVENT
END:VCALENDAR
