BEGIN:VCALENDAR
PRODID:-//eluceo/ical//2.0/EN
VERSION:2.0
CALSCALE:GREGORIAN
BEGIN:VEVENT
UID:67d5d361b5683f726e4c352d5866856a
DTSTAMP:20260423T154616Z
SUMMARY:Familienanlass: Bräteln bei der Friedenslinde
DESCRIPTION:Wir werden bei schönem Wetter ab 1100 Uhr den OG Aarau Grillpl
 atz in Betrieb nehmen und die Woche bei einem guten Bier und einer feinen 
 Wurst oder einem kräftigen Steak ausklingen lassen. Der Vorstand freut si
 ch auf einen geselligen Nachmittag!\n\nFür Getränke ist gesorgt\; für d
 as Grillgut ist jeder selber verantwortlich.&nbsp\;\n\n&nbsp\;\n\n\nhttps:
 //www.ogaarau.ch/event/familienanlass-braeteln-bei-der-friedenslinde
DTSTART:20230819T110000
DTEND:20230819T140000
LOCATION:Friedenslinde Aarau
ORGANIZER;CN=Offiziersgesellschaft Aarau:mailto:info@ogaarau.ch
END:VEVENT
END:VCALENDAR
