BEGIN:VCALENDAR
PRODID:-//eluceo/ical//2.0/EN
VERSION:2.0
CALSCALE:GREGORIAN
BEGIN:VEVENT
UID:9314df6ad126dc080210779f8ff5465e
DTSTAMP:20260423T154621Z
SUMMARY:Besuch Motorboot Zug
DESCRIPTION:Der Mot Boot Z des Genieschule 73 bildet die Grundlage für den
  maritimen Einsatz der Armee. Mit ihrem neuen Patrouillenboot P16\, welche
 s 2019 in Dienst gestellt wurde\, präsentieren sie sich von ihrer besten 
 Seite.\n\n&nbsp\;\n\n\nhttps://www.ogaarau.ch/event/besuch-motorboot-zug
DTSTART:20231013T090000
DTEND:20231013T120000
LOCATION:Vitznau (Treffpunkt: Feerstrasse in Aarau (gegenüber Alte Kanti\,
  Car-Parkplatz))
ORGANIZER;CN=Offiziersgesellschaft Aarau:mailto:info@ogaarau.ch
END:VEVENT
END:VCALENDAR
