BEGIN:VCALENDAR
PRODID:-//eluceo/ical//2.0/EN
VERSION:2.0
CALSCALE:GREGORIAN
BEGIN:VEVENT
UID:70c415b19924d20348e0fb9c2f76ef9f
DTSTAMP:20260423T154622Z
SUMMARY:Chässchnitte-Stand am MAG
DESCRIPTION:Besuchen Sie vom Donnerstag\, 28. September bis Sonntag\, 1. Ok
 tober 2023 unsere Chässchnitte-Beiz am MAG! Wir servieren feine Militär-
 Chässchnitten\, Speck-Brättli\, frisches Bier\, Weine und Kaffee-Variati
 onen sowie Cremeschnitten.&nbsp\;\n\n\nhttps://www.ogaarau.ch/event/chaess
 chnitte-stand-am-mag-0
DTSTART:20230929T190000
DTEND:20230929T220000
LOCATION:Markthalle Aarau
ORGANIZER;CN=Offiziersgesellschaft Aarau:mailto:info@ogaarau.ch
END:VEVENT
END:VCALENDAR
