BEGIN:VCALENDAR
PRODID:-//eluceo/ical//2.0/EN
VERSION:2.0
CALSCALE:GREGORIAN
BEGIN:VEVENT
UID:16fa44f5a646bf5e8a7f62b54aa24637
DTSTAMP:20260423T154906Z
SUMMARY:Suuser-Bummel
DESCRIPTION:In diesem Jahr geniessen wir feine Metzgete und frischen Suuser
  im Restaurant Gehren in Erlinsbach\, welches wir mit einem gemütlichen S
 paziergang zu Fuss ab Aarau erreichen.&nbsp\;\n\n\nhttps://www.ogaarau.ch/
 event/suuser-bummel-0
DTSTART:20231020T180000
DTEND:20231020T210000
LOCATION:Restaurant Waldhaus Gehren in Erlinsbach (Treffpunkt: Migrolino am
  Bahnhof Aarau)
ORGANIZER;CN=Offiziersgesellschaft Aarau:mailto:info@ogaarau.ch
END:VEVENT
END:VCALENDAR
