BEGIN:VCALENDAR
PRODID:-//eluceo/ical//2.0/EN
VERSION:2.0
CALSCALE:GREGORIAN
BEGIN:VEVENT
UID:4a6a4daa3102001b57235f45d919cd96
DTSTAMP:20260423T154916Z
SUMMARY:Wie endet der Ukraine-Krieg?
DESCRIPTION:Die Offiziersgesellschaft Aarau lädt am Mittwoch\, 15. Novembe
 r 2023 zum öffentlichen\, hochkarätigen sicherheitspolitischen Grossanla
 ss!\n\n\nhttps://www.ogaarau.ch/event/wie-endet-der-ukraine-krieg
DTSTART:20231115T183000
DTEND:20231115T213000
LOCATION:«Power Inn»\, Eniwa AG\, 5033 Buchs
ORGANIZER;CN=Offiziersgesellschaft Aarau:mailto:info@ogaarau.ch
END:VEVENT
END:VCALENDAR
