BEGIN:VCALENDAR
PRODID:-//eluceo/ical//2.0/EN
VERSION:2.0
CALSCALE:GREGORIAN
BEGIN:VEVENT
UID:3e019e4dba6ee9b61f41f75d72510454
DTSTAMP:20260423T154437Z
SUMMARY:Chlaushock
DESCRIPTION:Wir haben die einmalige Gelegenheit\, den derzeitigen Stand des
  eindrücklichen Neubaus "Dreiklang" des Kantonsspitals Aarau bei einer F
 ührung zu besichtigen und erhalten dabei spannende Einblicke in die aufw
 ändigen Bauarbeiten. Im Anschluss folgt ein Apéro. Ende voraussichtlich 
 um 2100 Uhr.&nbsp\;\n\n\nhttps://www.ogaarau.ch/event/chlaushock-0
DTSTART:20231208T180000
DTEND:20231208T210000
LOCATION:Kantonsspital Aarau\, Tellstrasse 25\, 5001 Aarau (Treffpunkt: Ein
 gang zum Haus 1)
ORGANIZER;CN=Offiziersgesellschaft Aarau:mailto:info@ogaarau.ch
END:VEVENT
END:VCALENDAR
