BEGIN:VCALENDAR
PRODID:-//eluceo/ical//2.0/EN
VERSION:2.0
CALSCALE:GREGORIAN
BEGIN:VEVENT
UID:be5d855e530d2b6c58f25cefac557565
DTSTAMP:20260423T154742Z
SUMMARY:Neumitgliederanlass
DESCRIPTION:An diesem Anlass heissen wir die neu beigetretenen Offiziere in
  unserer Offiziersgesellschaft willkommen.\n\n\nhttps://www.ogaarau.ch/eve
 nt/neumitgliederanlass-0
DTSTART:20240112T180000
DTEND:20240112T210000
LOCATION:Waldhaus Rohr\, 5032 Rohr (Treffpunkt: Migrolino\, Bahnhof Aarau)
ORGANIZER;CN=Offiziersgesellschaft Aarau:mailto:info@ogaarau.ch
END:VEVENT
END:VCALENDAR
