BEGIN:VCALENDAR
PRODID:-//eluceo/ical//2.0/EN
VERSION:2.0
CALSCALE:GREGORIAN
BEGIN:VEVENT
UID:183b6ff7eb86781d66e9418bf1430fb6
DTSTAMP:20260423T154713Z
SUMMARY:157. Generalversammlung
DESCRIPTION:Gerne laden wir euch zu unserer 157. Generalversammlung in der 
 Aula der Berufsschule Aarau ein. Die GV beginnt um 1830 Uhr. Im Anschluss 
 dürfen wir von&nbsp\;Oberst i Gst Ludovic Monnerat\,&nbsp\;Chef Bereich W
 eltraum im Stab Kommando Operationen\, persönlich erfahren\, was in diese
 r Operationssphäre militärisch relevant ist und wie die Schweizer Armee 
 diesen Herausforderungen begegnet. Danach folgt ein gemeinsames Abendessen
 . Der Vorstand freut sich auf möglichst viele Mitglieder!&nbsp\;\n\n\nhtt
 ps://www.ogaarau.ch/event/157-generalversammlung
DTSTART:20240214T183000
DTEND:20240214T213000
LOCATION:Aula Berufsschule Aarau (Treffpunkt: Aula)
ORGANIZER;CN=Offiziersgesellschaft Aarau:mailto:info@ogaarau.ch
END:VEVENT
END:VCALENDAR
