BEGIN:VCALENDAR
PRODID:-//eluceo/ical//2.0/EN
VERSION:2.0
CALSCALE:GREGORIAN
BEGIN:VEVENT
UID:ac86a24538b08acb12b3e7adf43a91b0
DTSTAMP:20260423T154856Z
SUMMARY:Soirée - Ball der Arizona “SILVER NIGHT FEVER”
DESCRIPTION:Werte Squaws und Stamm der Arizona\n\nLiebe Gäste\n\nEs ist un
 s eine grosse Freude\, Sie zur Soirée 2023 einzuladen. Unter dem Motto 
 “SILVER NIGHT FEVER” erwartet Sie eine einzigartige Kombination aus gl
 amouröser Eleganz und mitreissendem Disco-Feeling.\n\nGeniessen Sie einen
  unvergesslichen Arizona-Abend mit vielen vertrauten Gesichtern\, lassen S
 ie sich kulinarisch verwöhnen\, auf die Tanzfläche entführen und stärk
 en Sie sich mit einem kühlen Drink an der Bar.\n\nWir freuen uns\, Sie an
  der Soirée 2023 am 11. November im Kultur- und Kongresshaus Aarau persö
 nlich begrüssen zu dürfen.\n\nHerzlich\n\nBarbara &amp\; Patrick Deucher
 \n\n\nhttps://www.ogaarau.ch/event/soiree-ball-der-arizona-silver-night-fe
 ver
DTSTART:20231111T180000
DTEND:20231111T210000
LOCATION:Kultur- und Kongresshaus Aarau
ORGANIZER;CN=Offiziersgesellschaft Aarau:mailto:info@ogaarau.ch
END:VEVENT
END:VCALENDAR
